BEGIN:VCALENDAR
VERSION:2.0
PRODID:-//CEM //NONSGML Events //EN
CALSCALE:GREGORIAN
X-WR-CALNAME:CEM
BEGIN:VEVENT
CREATED:20250808T182210Z
UID:22242
DTEND;VALUE=DATE:20260719T030000
DTSTART;VALUE=DATE:20260717T080000
DTSTAMP:20260420T051457Z
LOCATION:Kelowna\, BC
DESCRIPTION:We are pleased to host the 7th annual TSX Venture Growth Capital Event at the beautiful Delta Grand Okanagan Resort taking place July 17th &#8211; 19th, 2026 This event is an exclusive, private opportunity for companies on the TSX Venture Exchange to meet with active and engaged investors in the venture market space. The event &hellip; <a href="https://staging.cem.ca/conference/okanagan-capital-event-2026/">Continued</a>
X-ALT-DESC;FMTTYPE=text/html:We are pleased to host the 7th annual TSX Venture Growth Capital Event at the beautiful Delta Grand Okanagan Resort taking place July 17th &#8211; 19th, 2026 This event is an exclusive, private opportunity for companies on the TSX Venture Exchange to meet with active and engaged investors in the venture market space. The event &hellip; <a href="https://staging.cem.ca/conference/okanagan-capital-event-2026/">Continued</a>
SUMMARY:TSX Venture Growth Capital Event
ORGANIZER:CEM
URL;VALUE=URI:https://staging.cem.ca/conference/okanagan-capital-event-2026/
TRANSP:OPAQUE
BEGIN:VALARM
ACTION:DISPLAY
TRIGGER;VALUE=DATE-TIME:20260716T080000
END:VALARM
END:VEVENT
END:VCALENDAR

