BEGIN:VCALENDAR
VERSION:2.0
PRODID:-//CEM //NONSGML Events //EN
CALSCALE:GREGORIAN
X-WR-CALNAME:CEM
BEGIN:VEVENT
CREATED:20250808T182121Z
UID:22240
DTEND;VALUE=DATE:20260614T030000
DTSTART;VALUE=DATE:20260612T080000
DTSTAMP:20260420T062809Z
LOCATION:Hamilton\, Bermuda
DESCRIPTION:CEM is pleased to host the 3rd annual Bermuda Capital Event hosted at the Fairmont Hamilton Princess &amp; Beach Club. This event will take place on June 12th &#8211; 14th, 2026. The event introduces growth-stage companies (Resource, Technology, Biotech, Special Situations) to active top-level capital finance individuals through a day of scheduled one-on-one meetings.
X-ALT-DESC;FMTTYPE=text/html:CEM is pleased to host the 3rd annual Bermuda Capital Event hosted at the Fairmont Hamilton Princess &amp; Beach Club. This event will take place on June 12th &#8211; 14th, 2026. The event introduces growth-stage companies (Resource, Technology, Biotech, Special Situations) to active top-level capital finance individuals through a day of scheduled one-on-one meetings.
SUMMARY:Bermuda Capital Event
ORGANIZER:CEM
URL;VALUE=URI:https://staging.cem.ca/conference/bermuda-capital-event-2026/
TRANSP:OPAQUE
BEGIN:VALARM
ACTION:DISPLAY
TRIGGER;VALUE=DATE-TIME:20260610T160000
END:VALARM
END:VEVENT
END:VCALENDAR

