BEGIN:VCALENDAR
VERSION:2.0
PRODID:-//CEM //NONSGML Events //EN
CALSCALE:GREGORIAN
X-WR-CALNAME:CEM
BEGIN:VEVENT
CREATED:20250808T164523Z
UID:22230
DTEND;VALUE=DATE:20260412T030000
DTSTART;VALUE=DATE:20260410T080000
DTSTAMP:20260420T050317Z
LOCATION:Scottsdale\, Arizona
DESCRIPTION:CEM is pleased to host the 13th annual Scottsdale Capital Event at hosted at the beautiful Westin Kierland Resort &amp; Spa. The conference introduces growth-stage companies (Resource, Technology, Biotech, Special Situations) to active top-level capital finance individuals through a day of scheduled 1:1 meetings and networking activities.
X-ALT-DESC;FMTTYPE=text/html:CEM is pleased to host the 13th annual Scottsdale Capital Event at hosted at the beautiful Westin Kierland Resort &amp; Spa. The conference introduces growth-stage companies (Resource, Technology, Biotech, Special Situations) to active top-level capital finance individuals through a day of scheduled 1:1 meetings and networking activities.
SUMMARY:Scottsdale Capital Event
ORGANIZER:CEM
URL;VALUE=URI:https://staging.cem.ca/conference/scottsdale-capital-event-2026/
TRANSP:OPAQUE
BEGIN:VALARM
ACTION:DISPLAY
TRIGGER;VALUE=DATE-TIME:20260408T160000
END:VALARM
END:VEVENT
END:VCALENDAR

