BEGIN:VCALENDAR
VERSION:2.0
PRODID:-//CEM //NONSGML Events //EN
CALSCALE:GREGORIAN
X-WR-CALNAME:CEM
BEGIN:VEVENT
CREATED:20250729T204828Z
UID:22197
DTEND;VALUE=DATE:20260208T030000
DTSTART;VALUE=DATE:20260206T080000
DTSTAMP:20260422T224721Z
LOCATION:Whistler\, BC
DESCRIPTION:CEM is pleased to host our 16th Annual Whistler Capital Event hosted at the beautiful Fairmont Chateau Whistler, BC. The event introduces growth-stage companies (Resource, Technology, Biotech, Special Situations) to active top-level capital finance individuals through a day of scheduled 1:1 meetings and networking activities.
X-ALT-DESC;FMTTYPE=text/html:CEM is pleased to host our 16th Annual Whistler Capital Event hosted at the beautiful Fairmont Chateau Whistler, BC. The event introduces growth-stage companies (Resource, Technology, Biotech, Special Situations) to active top-level capital finance individuals through a day of scheduled 1:1 meetings and networking activities.
SUMMARY:Whistler Capital Event
ORGANIZER:CEM
URL;VALUE=URI:https://staging.cem.ca/conference/whistler-capital-event-2026/
TRANSP:OPAQUE
BEGIN:VALARM
ACTION:DISPLAY
TRIGGER;VALUE=DATE-TIME:20260204T160000
END:VALARM
END:VEVENT
END:VCALENDAR

