BEGIN:VCALENDAR
VERSION:2.0
PRODID:-//CEM //NONSGML Events //EN
CALSCALE:GREGORIAN
X-WR-CALNAME:CEM
BEGIN:VEVENT
CREATED:20250729T204547Z
UID:22193
DTEND;VALUE=DATE:20260118T030000
DTSTART;VALUE=DATE:20260116T080000
DTSTAMP:20260422T210759Z
LOCATION:Nassau\, Bahamas
DESCRIPTION:CEM is pleased to host the 12th annual AlphaNorth Capital Event hosted at the iconic Grand Hyatt Baha Mar. The event introduces growth-stage companies (Resource, Technology, Biotech, Special Situations) to active top-level capital finance individuals through a day of scheduled 1:1 meetings.
X-ALT-DESC;FMTTYPE=text/html:CEM is pleased to host the 12th annual AlphaNorth Capital Event hosted at the iconic Grand Hyatt Baha Mar. The event introduces growth-stage companies (Resource, Technology, Biotech, Special Situations) to active top-level capital finance individuals through a day of scheduled 1:1 meetings.
SUMMARY:AlphaNorth Capital Event
ORGANIZER:CEM
URL;VALUE=URI:https://staging.cem.ca/conference/alphanorth-capital-event-2026/
TRANSP:OPAQUE
BEGIN:VALARM
ACTION:DISPLAY
TRIGGER;VALUE=DATE-TIME:20260115T080000
END:VALARM
END:VEVENT
END:VCALENDAR

